BEGIN:VCALENDAR
VERSION:2.0
PRODID:-//hacksw/handcal//NONSGML v1.0//EN
BEGIN:VEVENT
SUMMARY:Tournoi du mardi apres-midi
UID:f12684ae-3f2d-4058-8a93-d89f63b4df2a
DTSTART:20260407T123000Z
DTEND:20260407T160000Z
LOCATION:Localisation   
CATEGORIES:Sportif
STATUS:
URL;VALUE=URI:https://bridgeclubthionville.sportsregions.fr/evenements/2026/04/07/tournoi-du-mardi-apres-midi-2402952
END:VEVENT
END:VCALENDAR
