BEGIN:VCALENDAR
VERSION:2.0
PRODID:-//hacksw/handcal//NONSGML v1.0//EN
BEGIN:VEVENT
SUMMARY:Tournoi du jeudi apres-midi
UID:21dc2a87-135a-461d-841d-79beaf4e62b4
DTSTART:20260409T123000Z
DTEND:20260409T160000Z
LOCATION:Localisation   
CATEGORIES:Sportif
STATUS:
URL;VALUE=URI:https://bridgeclubthionville.sportsregions.fr/evenements/2026/04/09/tournoi-du-jeudi-apres-midi-2402971
END:VEVENT
END:VCALENDAR
