BEGIN:VCALENDAR
VERSION:2.0
PRODID:-//hacksw/handcal//NONSGML v1.0//EN
BEGIN:VEVENT
SUMMARY:Tournoi du mardi apres-midi
UID:5b1c5546-80a6-46a5-97dc-13f4a2b87bfd
DTSTART:20260421T123000Z
DTEND:20260421T160000Z
LOCATION:Localisation   
CATEGORIES:Sportif
STATUS:
URL;VALUE=URI:https://bridgeclubthionville.sportsregions.fr/evenements/2026/04/21/tournoi-du-mardi-apres-midi-2402950
END:VEVENT
END:VCALENDAR
