BEGIN:VCALENDAR
VERSION:2.0
PRODID:-//hacksw/handcal//NONSGML v1.0//EN
BEGIN:VEVENT
SUMMARY:Tournoi du mardi apres-midi
UID:c36213ea-57d3-4cfe-b699-87a2c88db4b7
DTSTART:20260428T123000Z
DTEND:20260428T160000Z
LOCATION:Localisation   
CATEGORIES:Sportif
STATUS:
URL;VALUE=URI:https://bridgeclubthionville.sportsregions.fr/evenements/2026/04/28/tournoi-du-mardi-apres-midi-2402942
END:VEVENT
END:VCALENDAR
