BEGIN:VCALENDAR
VERSION:2.0
PRODID:-//hacksw/handcal//NONSGML v1.0//EN
BEGIN:VEVENT
SUMMARY:Tournoi du jeudi apres-midi
UID:b4df584e-479b-458d-b8aa-f7f1ad8ce338
DTSTART:20260430T123000Z
DTEND:20260430T160000Z
LOCATION:Localisation   
CATEGORIES:Sportif
STATUS:
URL;VALUE=URI:https://bridgeclubthionville.sportsregions.fr/evenements/2026/04/30/tournoi-du-jeudi-apres-midi-2402981
END:VEVENT
END:VCALENDAR
