BEGIN:VCALENDAR
VERSION:2.0
PRODID:-//hacksw/handcal//NONSGML v1.0//EN
BEGIN:VEVENT
SUMMARY:Tournoi de regularite vendredi soir a 20h30
UID:cf9e4116-dae9-42ac-b2be-6ac5233c483a
DTSTART:20260501T183000Z
DTEND:20260501T214500Z
LOCATION:Localisation   
CATEGORIES:Sportif
STATUS:
URL;VALUE=URI:https://bridgeclubthionville.sportsregions.fr/evenements/2026/05/01/tournoi-de-regularite-vendredi-soir-a-20h30-2403007
END:VEVENT
END:VCALENDAR
